BEGIN:VCALENDAR
VERSION:2.0
PRODID:-// - ECPv6.15.20//NONSGML v1.0//EN
CALSCALE:GREGORIAN
METHOD:PUBLISH
X-ORIGINAL-URL:https://www.arminia-supporters-club.de
X-WR-CALDESC:Veranstaltungen für 
REFRESH-INTERVAL;VALUE=DURATION:PT1H
X-Robots-Tag:noindex
X-PUBLISHED-TTL:PT1H
BEGIN:VTIMEZONE
TZID:Europe/Berlin
BEGIN:DAYLIGHT
TZOFFSETFROM:+0100
TZOFFSETTO:+0200
TZNAME:CEST
DTSTART:20230326T010000
END:DAYLIGHT
BEGIN:STANDARD
TZOFFSETFROM:+0200
TZOFFSETTO:+0100
TZNAME:CET
DTSTART:20231029T010000
END:STANDARD
BEGIN:DAYLIGHT
TZOFFSETFROM:+0100
TZOFFSETTO:+0200
TZNAME:CEST
DTSTART:20240331T010000
END:DAYLIGHT
BEGIN:STANDARD
TZOFFSETFROM:+0200
TZOFFSETTO:+0100
TZNAME:CET
DTSTART:20241027T010000
END:STANDARD
BEGIN:DAYLIGHT
TZOFFSETFROM:+0100
TZOFFSETTO:+0200
TZNAME:CEST
DTSTART:20250330T010000
END:DAYLIGHT
BEGIN:STANDARD
TZOFFSETFROM:+0200
TZOFFSETTO:+0100
TZNAME:CET
DTSTART:20251026T010000
END:STANDARD
END:VTIMEZONE
BEGIN:VEVENT
DTSTART;VALUE=DATE:20241023
DTEND;VALUE=DATE:20241024
DTSTAMP:20260420T003636
CREATED:20240920T212413Z
LAST-MODIFIED:20240920T220110Z
UID:6978-1729641600-1729727999@www.arminia-supporters-club.de
SUMMARY:ASC-Busfahrt nach Hannover
DESCRIPTION:ASC-Busfahrt nach Hannover \nMittwoch\, 23. Oktober 2024 – Anstoß 19:00 Uhr \n \n\nTreffpunkt: 15:15 Uhr\, Almparkplatz\nvoraussichtliche Abfahrtszeit: 15:45 Uhr\nFahrpreis: 20\,00 Euro\nFahrpreis für ASC-Mitglieder: 15\,00 Euro\nAnmeldeschluss: Mittwoch\, 9. Oktober 2024\n\nWir behalten uns vor\, die Fahrt bei zu geringer Beteiligung abzusagen.  \nEintrittskarten für das Spiel können optional mit dem Busticket erworben werden. \nWir behalten uns vor\, die Fahrt bei zu geringer Beteiligung abzusagen. \nAnmeldung über das Formular oder per Mail an busfahrten@arminia-supporters-club.de\n(Das Formular ist ganz unten\, noch unter „Datenschutz“ und „Impressum“)
URL:https://www.arminia-supporters-club.de/event/asc-busfahrt-nach-hannover/
LOCATION:Alm-Parkplatz\, Stapenhorststraße 100\, Bielefeld\, 33615\, Deutschland
CATEGORIES:Veranstaltungen 2024
ORGANIZER;CN="ASC":MAILTO:events@arminia-supporters-club.de
END:VEVENT
END:VCALENDAR